BEGIN:VCALENDAR
VERSION:2.0
PRODID:-//New Hope Church - ECPv6.5.1.5//NONSGML v1.0//EN
CALSCALE:GREGORIAN
METHOD:PUBLISH
X-WR-CALNAME:New Hope Church
X-ORIGINAL-URL:https://becomehope.com
X-WR-CALDESC:Events for New Hope Church
REFRESH-INTERVAL;VALUE=DURATION:PT1H
X-Robots-Tag:noindex
X-PUBLISHED-TTL:PT1H
BEGIN:VTIMEZONE
TZID:America/Indiana/Indianapolis
BEGIN:DAYLIGHT
TZOFFSETFROM:-0500
TZOFFSETTO:-0400
TZNAME:EDT
DTSTART:20250309T070000
END:DAYLIGHT
BEGIN:STANDARD
TZOFFSETFROM:-0400
TZOFFSETTO:-0500
TZNAME:EST
DTSTART:20251102T060000
END:STANDARD
BEGIN:DAYLIGHT
TZOFFSETFROM:-0500
TZOFFSETTO:-0400
TZNAME:EDT
DTSTART:20260308T070000
END:DAYLIGHT
BEGIN:STANDARD
TZOFFSETFROM:-0400
TZOFFSETTO:-0500
TZNAME:EST
DTSTART:20261101T060000
END:STANDARD
BEGIN:DAYLIGHT
TZOFFSETFROM:-0500
TZOFFSETTO:-0400
TZNAME:EDT
DTSTART:20270314T070000
END:DAYLIGHT
BEGIN:STANDARD
TZOFFSETFROM:-0400
TZOFFSETTO:-0500
TZNAME:EST
DTSTART:20271107T060000
END:STANDARD
END:VTIMEZONE
BEGIN:VEVENT
DTSTART;TZID=America/Indiana/Indianapolis:20250821T070000
DTEND;TZID=America/Indiana/Indianapolis:20260516T180000
DTSTAMP:20260422T045245
CREATED:20250821T143348Z
LAST-MODIFIED:20250821T143348Z
UID:2287-1755759600-1778954400@becomehope.com
SUMMARY:Before/After School Care for Pleasant Grove Students
DESCRIPTION:BEFORE/AFTER SCHOOL CHILD CARE | FOR PLEASANT GROVE\nChildren of Hope at New Hope Church now offers Before/After School Child Care for Pleasant Grove Elementary students. If your child rides a bus\, please contact the Center Grove Transportation Dept at 317.881.0555 for the bus to pick up/drop off your child at New Hope Church. If your child is a car rider\, please let us know when you register. We will walk your child to/from the school. Please register here. Please call LaShon Wagner at 317.888.4673 ext 109 with any questions.
URL:https://becomehope.com/event/before-after-school-care-for-pleasant-grove-students/
ATTACH;FMTTYPE=image/png:https://becomehope.com/wp-content/uploads/2025/08/BeforeAfter-Care.png
END:VEVENT
BEGIN:VEVENT
DTSTART;TZID=America/Indiana/Indianapolis:20260208T090000
DTEND;TZID=America/Indiana/Indianapolis:20260426T100000
DTSTAMP:20260422T045245
CREATED:20260205T153316Z
LAST-MODIFIED:20260205T153316Z
UID:2472-1770541200-1777197600@becomehope.com
SUMMARY:Prayer
DESCRIPTION:PRAYER TIMES | TUESDAYS & SUNDAYS\nPlease join your brothers and sisters in Christ in praying for our church and community. We meet at 7:30am every Tuesday in the Hospitality Area and every Sunday at 9am in C29. Please join us for either one or both.
URL:https://becomehope.com/event/prayer/
ATTACH;FMTTYPE=image/png:https://becomehope.com/wp-content/uploads/2025/06/Prayer-Times.png
END:VEVENT
BEGIN:VEVENT
DTSTART;TZID=America/Indiana/Indianapolis:20260414T093000
DTEND;TZID=America/Indiana/Indianapolis:20260519T110000
DTSTAMP:20260422T045245
CREATED:20260408T194846Z
LAST-MODIFIED:20260408T194846Z
UID:2566-1776159000-1779188400@becomehope.com
SUMMARY:Play Group
DESCRIPTION:PLAY GROUP | TUESDAYS 9:30-11AM\nChildren of Hope offers a play time for infant-age 5 children. It is on Tuesdays\, 9:30-11am\, in the gym. Cost of $3 for 1 child or $5 for 2 children per week. Sign up here or just show up.
URL:https://becomehope.com/event/play-group-2/
ATTACH;FMTTYPE=image/png:https://becomehope.com/wp-content/uploads/2025/10/COH-Play-Group-Tues.png
END:VEVENT
BEGIN:VEVENT
DTSTART;TZID=America/Indiana/Indianapolis:20260426T143000
DTEND;TZID=America/Indiana/Indianapolis:20260426T170000
DTSTAMP:20260422T045245
CREATED:20260320T145054Z
LAST-MODIFIED:20260320T145054Z
UID:2538-1777213800-1777222800@becomehope.com
SUMMARY:April Shower for Resources of Hope
DESCRIPTION:APRIL SHOWERS | FOR RESOURCES OF HOPE\nSunday\, April 26\, 2:30pm in the Activity Center\nCome out for an afternoon of fun and community as we celebrate Resources of Hope! Enjoy delicious charcuterie boards and some friendly competition with board games.\nSpecial Guest: Renae Furnee will be our special guest and we want to shower her with love and support.\nHow to Help: Click here for a wishlist of items for those who want to contribute! You are welcome to purchase similar items elsewhere if you would like.\nBring a friend\, your questions\, and a heart to support a great cause. We can’t wait to see you there! Please sign up here!
URL:https://becomehope.com/event/april-shower-for-resources-of-hope/
ATTACH;FMTTYPE=image/png:https://becomehope.com/wp-content/uploads/2026/03/April-Showers-for-Resources-of-Hope-w-wish.png
END:VEVENT
BEGIN:VEVENT
DTSTART;TZID=America/Indiana/Indianapolis:20260528T183000
DTEND;TZID=America/Indiana/Indianapolis:20260528T210000
DTSTAMP:20260422T045245
CREATED:20260402T170143Z
LAST-MODIFIED:20260402T170143Z
UID:2553-1779993000-1780002000@becomehope.com
SUMMARY:League of Ordinary Gentlemen - May 2026
DESCRIPTION:LEAGUE OF ORDINARY GENTLEMEN | MAY 28\, INDIANS GAME\nAll adult males are invited to join us on Thursday\, May 28\, at 6:30 pm for the Indianapolis Indians game (hosting the Iowa Cubs). Cost: $20. RSVP by Sunday\, April 26\, using this link or the QR code in the image above so we can reserve tickets as a group and possibly arrange carpools.
URL:https://becomehope.com/event/league-of-ordinary-gentlemen-may-2026/
ATTACH;FMTTYPE=image/png:https://becomehope.com/wp-content/uploads/2026/04/LOG-May-QR.png
END:VEVENT
BEGIN:VEVENT
DTSTART;TZID=America/Indiana/Indianapolis:20260803T093000
DTEND;TZID=America/Indiana/Indianapolis:20270521T150000
DTSTAMP:20260422T045245
CREATED:20260122T155616Z
LAST-MODIFIED:20260205T180857Z
UID:2451-1785749400-1810911600@becomehope.com
SUMMARY:Children of Hope Preschool 2026-27
DESCRIPTION:CHILDREN OF HOPE PRESCHOOL | REGISTRATIONS FOR 2026-27\nWe offer preschool for children at least 3 years of age as of August 1\, 2026. We have openings for 3 day and 5 day classes. Hours are 9:30am-3pm with before school and after school care offered as well. Monthly tuition payment schedule is July-April. Please click here to register your child.
URL:https://becomehope.com/event/children-of-hope-preschool-2026-27/
ATTACH;FMTTYPE=image/png:https://becomehope.com/wp-content/uploads/2026/01/COH-registration-QR-2026-27.png
END:VEVENT
END:VCALENDAR